BEGIN:VCALENDAR
VERSION:2.0
PRODID:-//Byzantine Catholic Seminary of Saints Cyril and Methodius - ECPv6.15.20//NONSGML v1.0//EN
CALSCALE:GREGORIAN
METHOD:PUBLISH
X-WR-CALNAME:Byzantine Catholic Seminary of Saints Cyril and Methodius
X-ORIGINAL-URL:https://bcs.edu
X-WR-CALDESC:Events for Byzantine Catholic Seminary of Saints Cyril and Methodius
REFRESH-INTERVAL;VALUE=DURATION:PT1H
X-Robots-Tag:noindex
X-PUBLISHED-TTL:PT1H
BEGIN:VTIMEZONE
TZID:America/New_York
BEGIN:DAYLIGHT
TZOFFSETFROM:-0500
TZOFFSETTO:-0400
TZNAME:EDT
DTSTART:20250309T070000
END:DAYLIGHT
BEGIN:STANDARD
TZOFFSETFROM:-0400
TZOFFSETTO:-0500
TZNAME:EST
DTSTART:20251102T060000
END:STANDARD
BEGIN:DAYLIGHT
TZOFFSETFROM:-0500
TZOFFSETTO:-0400
TZNAME:EDT
DTSTART:20260308T070000
END:DAYLIGHT
BEGIN:STANDARD
TZOFFSETFROM:-0400
TZOFFSETTO:-0500
TZNAME:EST
DTSTART:20261101T060000
END:STANDARD
BEGIN:DAYLIGHT
TZOFFSETFROM:-0500
TZOFFSETTO:-0400
TZNAME:EDT
DTSTART:20270314T070000
END:DAYLIGHT
BEGIN:STANDARD
TZOFFSETFROM:-0400
TZOFFSETTO:-0500
TZNAME:EST
DTSTART:20271107T060000
END:STANDARD
END:VTIMEZONE
BEGIN:VEVENT
DTSTART;VALUE=DATE:20260505
DTEND;VALUE=DATE:20260506
DTSTAMP:20260423T044445
CREATED:20230421T131316Z
LAST-MODIFIED:20260406T174108Z
UID:10000185-1777939200-1778025599@bcs.edu
SUMMARY:Last day of Spring semester courses
DESCRIPTION:
URL:https://bcs.edu/event-date/last-day-of-spring-semester-courses/
ATTACH;FMTTYPE=image/png:https://bcs.edu/wp-content/uploads/2022/08/building_front_16x9.png
END:VEVENT
BEGIN:VEVENT
DTSTART;TZID=America/New_York:20260512T190000
DTEND;TZID=America/New_York:20260512T203000
DTSTAMP:20260423T044445
CREATED:20260406T174538Z
LAST-MODIFIED:20260406T180334Z
UID:10000223-1778612400-1778617800@bcs.edu
SUMMARY:The Genius of the Greek Catholic Eparchy of Mukachevo - BCS 26th Annual Lecture
DESCRIPTION:
URL:https://bcs.edu/event-date/the-genius-of-the-greek-catholic-eparchy-of-mukachevo-bcs-26th-annual-lecture/
ATTACH;FMTTYPE=image/png:https://bcs.edu/wp-content/uploads/2026/04/Paul-Robert-Magocsi_16x9.png
END:VEVENT
BEGIN:VEVENT
DTSTART;TZID=America/New_York:20260513T100000
DTEND;TZID=America/New_York:20260513T113000
DTSTAMP:20260423T044445
CREATED:20230509T181457Z
LAST-MODIFIED:20260406T174227Z
UID:10000189-1778666400-1778671800@bcs.edu
SUMMARY:Closing Moleben with Commencement
DESCRIPTION:
URL:https://bcs.edu/event-date/closing-hierarchical-divine-liturgy-with-commencement/
ATTACH;FMTTYPE=image/png:https://bcs.edu/wp-content/uploads/2022/08/chapel_16x9.png
END:VEVENT
BEGIN:VEVENT
DTSTART;VALUE=DATE:20260518
DTEND;VALUE=DATE:20260519
DTSTAMP:20260423T044445
CREATED:20230421T132834Z
LAST-MODIFIED:20260406T174827Z
UID:10000188-1779062400-1779148799@bcs.edu
SUMMARY:Summer Courses Begin
DESCRIPTION:
URL:https://bcs.edu/event-date/summer-courses-begin/
ATTACH;FMTTYPE=image/png:https://bcs.edu/wp-content/uploads/2022/08/building_front_16x9.png
END:VEVENT
BEGIN:VEVENT
DTSTART;VALUE=DATE:20260613
DTEND;VALUE=DATE:20260614
DTSTAMP:20260423T044445
CREATED:20230517T132209Z
LAST-MODIFIED:20260406T174937Z
UID:10000190-1781308800-1781395199@bcs.edu
SUMMARY:Diaconate Studies Begin
DESCRIPTION:
URL:https://bcs.edu/event-date/diaconate-studies-begin/
ATTACH;FMTTYPE=image/png:https://bcs.edu/wp-content/uploads/2022/09/deacons.png
END:VEVENT
END:VCALENDAR